BEGIN:VCALENDAR
VERSION:2.0
PRODID:-//ALTEBURG - ECPv6.15.17//NONSGML v1.0//EN
CALSCALE:GREGORIAN
METHOD:PUBLISH
X-WR-CALNAME:ALTEBURG
X-ORIGINAL-URL:https://alteburg.com
X-WR-CALDESC:Veranstaltungen für ALTEBURG
REFRESH-INTERVAL;VALUE=DURATION:PT1H
X-Robots-Tag:noindex
X-PUBLISHED-TTL:PT1H
BEGIN:VTIMEZONE
TZID:Europe/Berlin
BEGIN:DAYLIGHT
TZOFFSETFROM:+0100
TZOFFSETTO:+0200
TZNAME:CEST
DTSTART:20240331T010000
END:DAYLIGHT
BEGIN:STANDARD
TZOFFSETFROM:+0200
TZOFFSETTO:+0100
TZNAME:CET
DTSTART:20241027T010000
END:STANDARD
BEGIN:DAYLIGHT
TZOFFSETFROM:+0100
TZOFFSETTO:+0200
TZNAME:CEST
DTSTART:20250330T010000
END:DAYLIGHT
BEGIN:STANDARD
TZOFFSETFROM:+0200
TZOFFSETTO:+0100
TZNAME:CET
DTSTART:20251026T010000
END:STANDARD
BEGIN:DAYLIGHT
TZOFFSETFROM:+0100
TZOFFSETTO:+0200
TZNAME:CEST
DTSTART:20260329T010000
END:DAYLIGHT
BEGIN:STANDARD
TZOFFSETFROM:+0200
TZOFFSETTO:+0100
TZNAME:CET
DTSTART:20261025T010000
END:STANDARD
BEGIN:DAYLIGHT
TZOFFSETFROM:+0100
TZOFFSETTO:+0200
TZNAME:CEST
DTSTART:20270328T010000
END:DAYLIGHT
BEGIN:STANDARD
TZOFFSETFROM:+0200
TZOFFSETTO:+0100
TZNAME:CET
DTSTART:20271031T010000
END:STANDARD
END:VTIMEZONE
BEGIN:VEVENT
DTSTART;TZID=Europe/Berlin:20260214T180000
DTEND;TZID=Europe/Berlin:20260215T040000
DTSTAMP:20260420T122432
CREATED:20260114T085658Z
LAST-MODIFIED:20260114T085911Z
UID:7045-1771092000-1771128000@alteburg.com
SUMMARY:Alaaf Party 2026
DESCRIPTION:Freier Eintritt\, ohne Ticket Vorverkauf \nMindestverzehr für Speisen und Getränke 30€ \nEinlass ab 23Jahren \nBei größeren Gruppen\, schickt uns gerne eine email!
URL:https://alteburg.com/event/alaaf-party-2026-2/
ATTACH;FMTTYPE=application/pdf:https://alteburg.com/wp-content/uploads/2026/01/ALTEBURG_Karnevalssparty_A2_2026_DRUCK_1mm-1.pdf
END:VEVENT
BEGIN:VEVENT
DTSTART;TZID=Europe/Berlin:20260212T111100
DTEND;TZID=Europe/Berlin:20260213T030000
DTSTAMP:20260420T122432
CREATED:20260114T085420Z
LAST-MODIFIED:20260114T085420Z
UID:7041-1770894660-1770951600@alteburg.com
SUMMARY:Alaaf Party 2026
DESCRIPTION:Freier Eintritt\, ohne Ticket Vorverkauf \nMindestverzehr für Speisen und Getränke 30€ \nEinlass ab 23Jahren
URL:https://alteburg.com/event/alaaf-party-2026/
ATTACH;FMTTYPE=application/pdf:https://alteburg.com/wp-content/uploads/2026/01/ALTEBURG_Karnevalssparty_A2_2026_DRUCK_1mm.pdf
END:VEVENT
BEGIN:VEVENT
DTSTART;TZID=Europe/Berlin:20250927T000000
DTEND;TZID=Europe/Berlin:20250927T000000
DTSTAMP:20260420T122432
CREATED:20250614T095640Z
LAST-MODIFIED:20250614T095640Z
UID:6961-1758931200-1758931200@alteburg.com
SUMMARY:Geschlossene Gesellschaft
DESCRIPTION:Leider ist die ALTEBURG aufgrund geschlossener Gesellschaft für den Tag heute geschlossen. \nDies gilt auch für den Biergarten. Vielen Dank für euer Verständnis.
URL:https://alteburg.com/event/geschlossene-gesellschaft-2-14/
END:VEVENT
BEGIN:VEVENT
DTSTART;VALUE=DATE:20250920
DTEND;VALUE=DATE:20250921
DTSTAMP:20260420T122432
CREATED:20250614T095627Z
LAST-MODIFIED:20250614T095627Z
UID:6966-1758326400-1758412799@alteburg.com
SUMMARY:Geschlossene Gesellschaft
DESCRIPTION:Leider ist die ALTEBURG aufgrund geschlossener Gesellschaft für den Tag heute geschlossen. \nDies gilt auch für den Biergarten. Vielen Dank für euer Verständnis.
URL:https://alteburg.com/event/geschlossene-gesellschaft-2-13/
END:VEVENT
BEGIN:VEVENT
DTSTART;VALUE=DATE:20250912
DTEND;VALUE=DATE:20250913
DTSTAMP:20260420T122432
CREATED:20250614T095611Z
LAST-MODIFIED:20250614T095616Z
UID:6972-1757635200-1757721599@alteburg.com
SUMMARY:Geschlossene Gesellschaft
DESCRIPTION:Leider ist die ALTEBURG aufgrund geschlossener Gesellschaft für den Tag heute geschlossen. \nDies gilt auch für den Biergarten. Vielen Dank für euer Verständnis.
URL:https://alteburg.com/event/geschlossene-gesellschaft-2-12/
END:VEVENT
BEGIN:VEVENT
DTSTART;VALUE=DATE:20250905
DTEND;VALUE=DATE:20250906
DTSTAMP:20260420T122432
CREATED:20250614T095558Z
LAST-MODIFIED:20250614T095655Z
UID:6971-1757030400-1757116799@alteburg.com
SUMMARY:Geschlossene Gesellschaft
DESCRIPTION:Leider ist die ALTEBURG aufgrund geschlossener Gesellschaft für den Tag heute geschlossen. \nDies gilt auch für den Biergarten. Vielen Dank für euer Verständnis.
URL:https://alteburg.com/event/geschlossene-gesellschaft-2-11/
END:VEVENT
BEGIN:VEVENT
DTSTART;VALUE=DATE:20250830
DTEND;VALUE=DATE:20250831
DTSTAMP:20260420T122432
CREATED:20250614T095545Z
LAST-MODIFIED:20250614T095545Z
UID:6970-1756512000-1756598399@alteburg.com
SUMMARY:Geschlossene Gesellschaft
DESCRIPTION:Leider ist die ALTEBURG aufgrund geschlossener Gesellschaft für den Tag heute geschlossen. \nDies gilt auch für den Biergarten. Vielen Dank für euer Verständnis.
URL:https://alteburg.com/event/geschlossene-gesellschaft-2-10/
END:VEVENT
BEGIN:VEVENT
DTSTART;VALUE=DATE:20250828
DTEND;VALUE=DATE:20250829
DTSTAMP:20260420T122432
CREATED:20250614T095535Z
LAST-MODIFIED:20250614T095535Z
UID:6969-1756339200-1756425599@alteburg.com
SUMMARY:Geschlossene Gesellschaft
DESCRIPTION:Leider ist die ALTEBURG aufgrund geschlossener Gesellschaft für den Tag heute geschlossen. \nDies gilt auch für den Biergarten. Vielen Dank für euer Verständnis.
URL:https://alteburg.com/event/geschlossene-gesellschaft-2-9/
END:VEVENT
BEGIN:VEVENT
DTSTART;VALUE=DATE:20250822
DTEND;VALUE=DATE:20250823
DTSTAMP:20260420T122432
CREATED:20250614T095523Z
LAST-MODIFIED:20250614T095523Z
UID:6968-1755820800-1755907199@alteburg.com
SUMMARY:Geschlossene Gesellschaft
DESCRIPTION:Leider ist die ALTEBURG aufgrund geschlossener Gesellschaft für den Tag heute geschlossen. \nDies gilt auch für den Biergarten. Vielen Dank für euer Verständnis.
URL:https://alteburg.com/event/geschlossene-gesellschaft-2-8/
END:VEVENT
BEGIN:VEVENT
DTSTART;VALUE=DATE:20250820
DTEND;VALUE=DATE:20250821
DTSTAMP:20260420T122432
CREATED:20250614T095504Z
LAST-MODIFIED:20250614T100703Z
UID:6967-1755648000-1755734399@alteburg.com
SUMMARY:Geschlossene Gesellschaft
DESCRIPTION:Leider ist die ALTEBURG aufgrund geschlossener Gesellschaft für den Tag heute geschlossen. \nDies gilt auch für den Biergarten. Vielen Dank für euer Verständnis.
URL:https://alteburg.com/event/geschlossene-gesellschaft-2-7/
END:VEVENT
BEGIN:VEVENT
DTSTART;VALUE=DATE:20250816
DTEND;VALUE=DATE:20250817
DTSTAMP:20260420T122432
CREATED:20250614T095407Z
LAST-MODIFIED:20250614T095407Z
UID:6960-1755302400-1755388799@alteburg.com
SUMMARY:Geschlossene Gesellschaft
DESCRIPTION:Leider ist die ALTEBURG aufgrund geschlossener Gesellschaft für den Tag heute geschlossen. \nDies gilt auch für den Biergarten. Vielen Dank für euer Verständnis.
URL:https://alteburg.com/event/geschlossene-gesellschaft-2-6/
END:VEVENT
BEGIN:VEVENT
DTSTART;VALUE=DATE:20250808
DTEND;VALUE=DATE:20250809
DTSTAMP:20260420T122432
CREATED:20250614T095946Z
LAST-MODIFIED:20250614T100021Z
UID:6984-1754611200-1754697599@alteburg.com
SUMMARY:Geschlossene Gesellschaft
DESCRIPTION:Leider ist die ALTEBURG aufgrund geschlossener Gesellschaft für den Tag heute geschlossen. \nDies gilt auch für den Biergarten. Vielen Dank für euer Verständnis.
URL:https://alteburg.com/event/geschlossene-gesellschaft-2-14-3/
END:VEVENT
BEGIN:VEVENT
DTSTART;VALUE=DATE:20250801
DTEND;VALUE=DATE:20250802
DTSTAMP:20260420T122432
CREATED:20250730T101314Z
LAST-MODIFIED:20250730T101314Z
UID:7012-1754006400-1754092799@alteburg.com
SUMMARY:Geschlossene Gesellschaft
DESCRIPTION:Heute bleibt der Biergarten leider geschlossen.
URL:https://alteburg.com/event/geschlossene-gesellschaft-3/
END:VEVENT
BEGIN:VEVENT
DTSTART;TZID=Europe/Berlin:20250719T000000
DTEND;TZID=Europe/Berlin:20250719T000000
DTSTAMP:20260420T122432
CREATED:20250614T095343Z
LAST-MODIFIED:20250614T095343Z
UID:6959-1752883200-1752883200@alteburg.com
SUMMARY:Geschlossene Gesellschaft
DESCRIPTION:Leider ist die ALTEBURG aufgrund geschlossener Gesellschaft für den Tag heute geschlossen. \nDies gilt auch für den Biergarten. Vielen Dank für euer Verständnis.
URL:https://alteburg.com/event/geschlossene-gesellschaft-2-5/
END:VEVENT
BEGIN:VEVENT
DTSTART;VALUE=DATE:20250711
DTEND;VALUE=DATE:20250712
DTSTAMP:20260420T122432
CREATED:20250614T095325Z
LAST-MODIFIED:20250614T095325Z
UID:6958-1752192000-1752278399@alteburg.com
SUMMARY:Geschlossene Gesellschaft
DESCRIPTION:Leider ist die ALTEBURG aufgrund geschlossener Gesellschaft für den Tag heute geschlossen. \nDies gilt auch für den Biergarten. Vielen Dank für euer Verständnis.
URL:https://alteburg.com/event/geschlossene-gesellschaft-2-4/
END:VEVENT
BEGIN:VEVENT
DTSTART;VALUE=DATE:20250705
DTEND;VALUE=DATE:20250706
DTSTAMP:20260420T122432
CREATED:20250614T095309Z
LAST-MODIFIED:20250614T095309Z
UID:6957-1751673600-1751759999@alteburg.com
SUMMARY:Geschlossene Gesellschaft
DESCRIPTION:Leider ist die ALTEBURG aufgrund geschlossener Gesellschaft für den Tag heute geschlossen. \nDies gilt auch für den Biergarten. Vielen Dank für euer Verständnis.
URL:https://alteburg.com/event/geschlossene-gesellschaft-2-3/
END:VEVENT
BEGIN:VEVENT
DTSTART;VALUE=DATE:20250702
DTEND;VALUE=DATE:20250703
DTSTAMP:20260420T122432
CREATED:20250614T095223Z
LAST-MODIFIED:20250614T095223Z
UID:6953-1751414400-1751500799@alteburg.com
SUMMARY:Geschlossene Gesellschaft
DESCRIPTION:Leider ist die ALTEBURG aufgrund geschlossener Gesellschaft für den Tag heute geschlossen. \nDies gilt auch für den Biergarten. Vielen Dank für euer Verständnis.
URL:https://alteburg.com/event/geschlossene-gesellschaft-2-2/
END:VEVENT
BEGIN:VEVENT
DTSTART;VALUE=DATE:20250627
DTEND;VALUE=DATE:20250629
DTSTAMP:20260420T122432
CREATED:20250614T095052Z
LAST-MODIFIED:20250614T095052Z
UID:6949-1750982400-1751155199@alteburg.com
SUMMARY:Geschlossene Gesellschaft
DESCRIPTION:Leider ist die ALTEBURG aufgrund geschlossener Gesellschaft für den Tag heute geschlossen. \nDies gilt auch für den Biergarten. Vielen Dank für euer Verständnis.
URL:https://alteburg.com/event/geschlossene-gesellschaft-2/
END:VEVENT
BEGIN:VEVENT
DTSTART;TZID=Europe/Berlin:20250620T000000
DTEND;TZID=Europe/Berlin:20250621T000000
DTSTAMP:20260420T122432
CREATED:20250614T095851Z
LAST-MODIFIED:20250614T095851Z
UID:6982-1750377600-1750464000@alteburg.com
SUMMARY:Geschlossene Gesellschaft
DESCRIPTION:Leider ist die ALTEBURG aufgrund geschlossener Gesellschaft für den Tag heute geschlossen. \nDies gilt auch für den Biergarten. Vielen Dank für euer Verständnis.
URL:https://alteburg.com/event/geschlossene-gesellschaft-2-14-2/
END:VEVENT
BEGIN:VEVENT
DTSTART;VALUE=DATE:20250614
DTEND;VALUE=DATE:20250615
DTSTAMP:20260420T122432
CREATED:20250528T093758Z
LAST-MODIFIED:20250614T101350Z
UID:6767-1749859200-1749945599@alteburg.com
SUMMARY:Geschlossene Gesellschaft
DESCRIPTION:Leider ist die ALTEBURG aufgrund geschlossener Gesellschaft für den Tag heute geschlossen. \nDies gilt auch für den Biergarten. Vielen Dank für euer Verständnis.
URL:https://alteburg.com/event/geschlossene-gesellschaft/
END:VEVENT
END:VCALENDAR