BEGIN:VCALENDAR
VERSION:2.0
PRODID:-//ALTEBURG - ECPv6.15.17//NONSGML v1.0//EN
CALSCALE:GREGORIAN
METHOD:PUBLISH
X-ORIGINAL-URL:https://alteburg.com
X-WR-CALDESC:Veranstaltungen für ALTEBURG
REFRESH-INTERVAL;VALUE=DURATION:PT1H
X-Robots-Tag:noindex
X-PUBLISHED-TTL:PT1H
BEGIN:VTIMEZONE
TZID:Europe/Berlin
BEGIN:DAYLIGHT
TZOFFSETFROM:+0100
TZOFFSETTO:+0200
TZNAME:CEST
DTSTART:20250330T010000
END:DAYLIGHT
BEGIN:STANDARD
TZOFFSETFROM:+0200
TZOFFSETTO:+0100
TZNAME:CET
DTSTART:20251026T010000
END:STANDARD
BEGIN:DAYLIGHT
TZOFFSETFROM:+0100
TZOFFSETTO:+0200
TZNAME:CEST
DTSTART:20260329T010000
END:DAYLIGHT
BEGIN:STANDARD
TZOFFSETFROM:+0200
TZOFFSETTO:+0100
TZNAME:CET
DTSTART:20261025T010000
END:STANDARD
BEGIN:DAYLIGHT
TZOFFSETFROM:+0100
TZOFFSETTO:+0200
TZNAME:CEST
DTSTART:20270328T010000
END:DAYLIGHT
BEGIN:STANDARD
TZOFFSETFROM:+0200
TZOFFSETTO:+0100
TZNAME:CET
DTSTART:20271031T010000
END:STANDARD
END:VTIMEZONE
BEGIN:VEVENT
DTSTART;TZID=Europe/Berlin:20260212T111100
DTEND;TZID=Europe/Berlin:20260213T030000
DTSTAMP:20260420T102718
CREATED:20260114T085420Z
LAST-MODIFIED:20260114T085420Z
UID:7041-1770894660-1770951600@alteburg.com
SUMMARY:Alaaf Party 2026
DESCRIPTION:Freier Eintritt\, ohne Ticket Vorverkauf \nMindestverzehr für Speisen und Getränke 30€ \nEinlass ab 23Jahren
URL:https://alteburg.com/event/alaaf-party-2026/
ATTACH;FMTTYPE=application/pdf:https://alteburg.com/wp-content/uploads/2026/01/ALTEBURG_Karnevalssparty_A2_2026_DRUCK_1mm.pdf
END:VEVENT
BEGIN:VEVENT
DTSTART;TZID=Europe/Berlin:20260214T180000
DTEND;TZID=Europe/Berlin:20260215T040000
DTSTAMP:20260420T102718
CREATED:20260114T085658Z
LAST-MODIFIED:20260114T085911Z
UID:7045-1771092000-1771128000@alteburg.com
SUMMARY:Alaaf Party 2026
DESCRIPTION:Freier Eintritt\, ohne Ticket Vorverkauf \nMindestverzehr für Speisen und Getränke 30€ \nEinlass ab 23Jahren \nBei größeren Gruppen\, schickt uns gerne eine email!
URL:https://alteburg.com/event/alaaf-party-2026-2/
ATTACH;FMTTYPE=application/pdf:https://alteburg.com/wp-content/uploads/2026/01/ALTEBURG_Karnevalssparty_A2_2026_DRUCK_1mm-1.pdf
END:VEVENT
END:VCALENDAR